Workbook

Sheet DEM model without fracture
A1: Aggregate Type | B1: Brick | J1: Granite36 | P1: Vatnsskard | V1: Granite25
A2: Gradations | B2: 11.2 - 16.0 | D2: 4.0 - 8 .0 | F2: 4.0 - 11.2 | H2: 2.0 - 16.0 | J2: 11.2 - 16.0 | L2: 4.0 - 8 .0 | N2: 4.0 - 11.2 | P2: 11.2 - 16.0 | R2: 4.0 - 8 .0 | T2: 4.0 - 11.2 | V2: 11.2 - 16.0 | X2: 2.0 - 16.0
A3: Youngs Modulus [GPa] | B3: 15 | J3: 20 | P3: 40 | V3: 45
A4: Porosity [%] | B4: 0.523 | D4: 0.514 | F4: 0.511 | H4: 0.5 | J4: 0.517 | L4: 0.464 | N4: 0.478 | P4: 0.438 | R4: 0.399 | T4: 0.418 | V4: 0.488 | X4: 0.458
B5: P_z [kN] | C5: u_z [mm] | D5: P_z [kN] | E5: u_z [mm] | F5: P_z [kN] | G5: u_z [mm] | H5: P_z [kN] | I5: u_z [mm] | J5: P_z [kN] | K5: u_z [mm] | L5: P_z [kN] | M5: u_z [mm] | N5: P_z [kN] | O5: u_z [mm] | P5: P_z [kN] | Q5: u_z [mm] | R5: P_z [kN] | S5: u_z [mm] | T5: P_z [kN] | U5: u_z [mm] | V5: P_z [kN] | W5: u_z [mm] | X5: P_z [kN] | Y5: u_z [mm]
B6: 0.5 | C6: 0.0023776598 | D6: 0.5 | E6: 0.00015630345 | F6: 0.5 | G6: 0.00039864605 | H6: 0.5 | I6: 2.2030291e-05 | J6: 0.5 | K6: 0.00036648356 | L6: 0.5 | M6: 0.00017206416 | N6: 0.5 | O6: 8.0659625e-05 | P6: 0.5 | Q6: 0.00010532659 | R6: 0.5 | S6: 0.00027309033 | T6: 0.5 | U6: 8.9901798e-05 | V6: 1 | W6: 0.00064585159 | X6: 1 | Y6: 1.2615741e-05
B7: 0.52 | C7: 0.038305007 | D7: 0.52 | E7: 0.024944235 | F7: 0.52 | G7: 0.02198598 | H7: 0.52 | I7: 0.027210238 | J7: 0.52 | K7: 0.02715116 | L7: 0.52 | M7: 0.016881395 | N7: 0.52 | O7: 0.014936325 | P7: 0.52 | Q7: 0.012124513 | R7: 0.52 | S7: 0.0069627268 | T7: 0.52 | U7: 0.0080896056 | V7: 1.02 | W7: 0.015572343 | X7: 1.02 | Y7: 0.011828027
B8: 0.54 | C8: 0.072725185 | D8: 0.54 | E8: 0.071585385 | F8: 0.54 | G8: 0.043893228 | H8: 0.54 | I8: 0.060484685 | J8: 0.54 | K8: 0.052700016 | L8: 0.54 | M8: 0.032733035 | N8: 0.54 | O8: 0.030266539 | P8: 0.54 | Q8: 0.024128706 | R8: 0.54 | S8: 0.013501787 | T8: 0.54 | U8: 0.016056394 | V8: 1.04 | W8: 0.031442808 | X8: 1.04 | Y8: 0.023386364
B9: 0.56 | C9: 0.11010633 | D9: 0.56 | E9: 0.093529301 | F9: 0.56 | G9: 0.065864769 | H9: 0.56 | I9: 0.11358577 | J9: 0.56 | K9: 0.078261747 | L9: 0.56 | M9: 0.045736535 | N9: 0.56 | O9: 0.044540462 | P9: 0.56 | Q9: 0.03597005 | R9: 0.56 | S9: 0.019928526 | T9: 0.56 | U9: 0.023957254 | V9: 1.06 | W9: 0.045427165 | X9: 1.06 | Y9: 0.034837419
B10: 0.58 | C10: 0.14591715 | D10: 0.58 | E10: 0.11788519 | F10: 0.58 | G10: 0.10952166 | H10: 0.58 | I10: 0.15093289 | J10: 0.58 | K10: 0.10348666 | L10: 0.58 | M10: 0.058364309 | N10: 0.58 | O10: 0.05911914 | P10: 0.58 | Q10: 0.047871567 | R10: 0.58 | S10: 0.026189969 | T10: 0.58 | U10: 0.031734054 | V10: 1.08 | W10: 0.059588306 | X10: 1.08 | Y10: 0.046325294
B11: 0.6 | C11: 0.18139763 | D11: 0.6 | E11: 0.14382866 | F11: 0.6 | G11: 0.13644365 | H11: 0.6 | I11: 0.18204825 | J11: 0.6 | K11: 0.12847826 | L11: 0.6 | M11: 0.071253099 | N11: 0.6 | O11: 0.073668265 | P11: 0.6 | Q11: 0.05973004 | R11: 0.6 | S11: 0.032413903 | T11: 0.6 | U11: 0.039376223 | V11: 1.1 | W11: 0.073693876 | X11: 1.1 | Y11: 0.057696471
B12: 0.62 | C12: 0.21703711 | D12: 0.62 | E12: 0.1715268 | F12: 0.62 | G12: 0.15589673 | H12: 0.62 | I12: 0.21626489 | J12: 0.62 | K12: 0.15337752 | L12: 0.62 | M12: 0.084354801 | N12: 0.62 | O12: 0.088289148 | P12: 0.62 | Q12: 0.071525458 | R12: 0.62 | S12: 0.038621995 | T12: 0.62 | U12: 0.046808435 | V12: 1.12 | W12: 0.087833479 | X12: 1.12 | Y12: 0.069137081
B13: 0.64 | C13: 0.25140137 | D13: 0.64 | E13: 0.19573074 | F13: 0.64 | G13: 0.17512143 | H13: 0.64 | I13: 0.2451144 | J13: 0.64 | K13: 0.17782232 | L13: 0.64 | M13: 0.096653532 | N13: 0.64 | O13: 0.10324955 | P13: 0.64 | Q13: 0.083037056 | R13: 0.64 | S13: 0.04482144 | T13: 0.64 | U13: 0.054104045 | V13: 1.14 | W13: 0.10173291 | X13: 1.14 | Y13: 0.080172981
B14: 0.66 | C14: 0.28570932 | D14: 0.66 | E14: 0.21289091 | F14: 0.66 | G14: 0.19455972 | H14: 0.66 | I14: 0.27528319 | J14: 0.66 | K14: 0.20229152 | L14: 0.66 | M14: 0.10623163 | N14: 0.66 | O14: 0.11854956 | P14: 0.66 | Q14: 0.091801804 | R14: 0.66 | S14: 0.050887061 | T14: 0.66 | U14: 0.061367462 | V14: 1.16 | W14: 0.11491283 | X14: 1.16 | Y14: 0.090849179
B15: 0.68 | C15: 0.31950792 | D15: 0.68 | E15: 0.2323889 | F15: 0.68 | G15: 0.2152738 | H15: 0.68 | I15: 0.30448735 | J15: 0.68 | K15: 0.22663054 | L15: 0.68 | M15: 0.11570104 | N15: 0.68 | O15: 0.13453755 | P15: 0.68 | Q15: 0.10039115 | R15: 0.68 | S15: 0.056805365 | T15: 0.68 | U15: 0.068597198 | V15: 1.18 | W15: 0.12792036 | X15: 1.18 | Y15: 0.10148241
B16: 0.7 | C16: 0.35192288 | D16: 0.7 | E16: 0.25181091 | F16: 0.7 | G16: 0.23967361 | H16: 0.7 | I16: 0.33262136 | J16: 0.7 | K16: 0.25065842 | L16: 0.7 | M16: 0.1250249 | N16: 0.7 | O16: 0.15054515 | P16: 0.7 | Q16: 0.10885824 | R16: 0.7 | S16: 0.062714654 | T16: 0.7 | U16: 0.075781262 | V16: 1.2 | W16: 0.14096221 | X16: 1.2 | Y16: 0.11214462
B17: 0.72 | C17: 0.38307007 | D17: 0.72 | E17: 0.30354283 | F17: 0.72 | G17: 0.26451607 | H17: 0.72 | I17: 0.35899006 | J17: 0.72 | K17: 0.27447824 | L17: 0.72 | M17: 0.13435198 | N17: 0.72 | O17: 0.16645764 | P17: 0.72 | Q17: 0.11715805 | R17: 0.72 | S17: 0.068560053 | T17: 0.72 | U17: 0.082939346 | V17: 1.22 | W17: 0.15395416 | X17: 1.22 | Y17: 0.12252992
... B981: 20 | C981: 7.0413356 | D981: 20 | E981: 4.5551715 | F981: 20 | G981: 7.1372329 | H981: 20 | I981: 12.050307 | J981: 20 | K981: 8.0384161 | L981: 20 | M981: 3.892302 | N981: 20 | O981: 5.1047604 | P981: 20 | Q981: 2.8953113 | R981: 20 | S981: 2.2029491 | T981: 20 | U981: 2.6281055 | V981: 20.5 | W981: 4.5788166 | X981: 20.5 | Y981: 4.4078733
V982: 20.52 | W982: 4.5815617 | X982: 20.52 | Y982: 4.4100396
V983: 20.54 | W983: 4.5843193 | X983: 20.54 | Y983: 4.4121976
V984: 20.56 | W984: 4.5870641 | X984: 20.56 | Y984: 4.4143494
V985: 20.58 | W985: 4.5898172 | X985: 20.58 | Y985: 4.4165181
V986: 20.6 | W986: 4.5925599 | X986: 20.6 | Y986: 4.4186794
V987: 20.62 | W987: 4.5953011 | X987: 20.62 | Y987: 4.4208375
V988: 20.64 | W988: 4.5980574 | X988: 20.64 | Y988: 4.4229848
V989: 20.66 | W989: 4.6007976 | X989: 20.66 | Y989: 4.4251396
V990: 20.68 | W990: 4.6035388 | X990: 20.68 | Y990: 4.4272832
V991: 20.7 | W991: 4.606288 | X991: 20.7 | Y991: 4.429456
V992: 20.72 | W992: 4.6090204 | X992: 20.72 | Y992: 4.4316151
V993: 20.74 | W993: 4.611774 | X993: 20.74 | Y993: 4.4337809
... V1706: 35 | W1706: 6.5960121 | X1706: 35 | Y1706: 5.7691148
X1707: 35.02 | Y1707: 5.77074
X1708: 35.04 | Y1708: 5.772365
X1709: 35.06 | Y1709: 5.7739866
X1710: 35.08 | Y1710: 5.7756045
X1711: 35.1 | Y1711: 5.7772308
X1712: 35.12 | Y1712: 5.7788549
X1713: 35.14 | Y1713: 5.7804792
X1714: 35.16 | Y1714: 5.7820968
X1715: 35.18 | Y1715: 5.7837226
X1716: 35.2 | Y1716: 5.7853547
X1717: 35.22 | Y1717: 5.7869812
X1718: 35.24 | Y1718: 5.7886046
... X2456: 50 | Y2456: 6.8891553

Sheet Measurements
A1: Aggregate Type | B1: Brick | J1: Granite36 | P1: Vatnsskard | V1: Granite25
A2: Gradations | B2: 11.2 - 16.0 | D2: 4.0 - 8 .0 | F2: 4.0 - 11.2 | H2: 2.0 - 16.0 | J2: 11.2 - 16.0 | L2: 4.0 - 8 .0 | N2: 4.0 - 11.2 | P2: 11.2 - 16.0 | R2: 4.0 - 8 .0 | T2: 4.0 - 11.2 | V2: 11.2 - 16.0 | X2: 2.0 - 16.0
A4: Porosity [%] | B4: 54.6± 1.4 | D4: 53.4 ± 1.6 | F4: 53.9 ± 0.7 | H4: 53.6± 0.4 | J4: 50.5 ± 1.1 | L4: 47.9 ± 0.7 | N4: 47.9 ± 0.5 | P4: 43.5±0.1 | R4: 40.5 ± 0.5 | T4: 40.8 ± 2.1 | V4: 46.9±1.6 | X4: 42.2±2.1
B5: P_z [kN] | C5: u_z [mm] | D5: P_z [kN] | E5: u_z [mm] | F5: P_z [kN] | G5: u_z [mm] | H5: P_z [kN] | I5: u_z [mm] | J5: P_z [kN] | K5: u_z [mm] | L5: P_z [kN] | M5: u_z [mm] | N5: P_z [kN] | O5: u_z [mm] | P5: P_z [kN] | Q5: u_z [mm] | R5: P_z [kN] | S5: u_z [mm] | T5: P_z [kN] | U5: u_z [mm] | V5: P_z [kN] | W5: u_z [mm] | X5: P_z [kN] | Y5: u_z [mm]
B6: 0.5 | C6: 0.00020162146 | D6: 0.5 | E6: 0.0005197555 | F6: 0.5 | G6: -0.00025229928 | H6: 0.5 | I6: 4.3556554e-06 | J6: 0.5 | K6: 0.00012109523 | L6: 0.5 | M6: 0.00025720412 | N6: 0.5 | O6: -2.7375148e-05 | P6: 0.5 | Q6: 0.00046711193 | R6: 0.5 | S6: 5.3934093e-05 | T6: 0.5 | U6: 0.00014651769 | V6: 1 | W6: 0.00083822464 | X6: 1 | Y6: 0.00031726053
B7: 0.52 | C7: 0.012858321 | D7: 0.52 | E7: 0.019785554 | F7: 0.52 | G7: 0.015176396 | H7: 0.52 | I7: 0.021526758 | J7: 0.52 | K7: 0.014512681 | L7: 0.52 | M7: 0.0097631096 | N7: 0.52 | O7: 0.011620179 | P7: 0.52 | Q7: 0.010395748 | R7: 0.52 | S7: 0.014627583 | T7: 0.52 | U7: 0.018955682 | V7: 1.02 | W7: 0.005119079 | X7: 1.02 | Y7: 0.0081575367
B8: 0.54 | C8: 0.035480449 | D8: 0.54 | E8: 0.039373801 | F8: 0.54 | G8: 0.033572077 | H8: 0.54 | I8: 0.067599929 | J8: 0.54 | K8: 0.042759194 | L8: 0.54 | M8: 0.028968496 | N8: 0.54 | O8: 0.034221408 | P8: 0.54 | Q8: 0.022944173 | R8: 0.54 | S8: 0.032152594 | T8: 0.54 | U8: 0.030383278 | V8: 1.04 | W8: 0.0084763623 | X8: 1.04 | Y8: 0.016405201
B9: 0.56 | C9: 0.057479907 | D9: 0.56 | E9: 0.061792226 | F9: 0.56 | G9: 0.053117037 | H9: 0.56 | I9: 0.12763343 | J9: 0.56 | K9: 0.072764274 | L9: 0.56 | M9: 0.047348698 | N9: 0.56 | O9: 0.055128092 | P9: 0.56 | Q9: 0.03535345 | R9: 0.56 | S9: 0.047671257 | T9: 0.56 | U9: 0.044840902 | V9: 1.06 | W9: 0.013356034 | X9: 1.06 | Y9: 0.024899878
B10: 0.58 | C10: 0.086914376 | D10: 0.58 | E10: 0.10133309 | F10: 0.58 | G10: 0.076083294 | H10: 0.58 | I10: 0.1662786 | J10: 0.58 | K10: 0.10369725 | L10: 0.58 | M10: 0.063257356 | N10: 0.58 | O10: 0.08294307 | P10: 0.58 | Q10: 0.048231025 | R10: 0.58 | S10: 0.069485342 | T10: 0.58 | U10: 0.059101349 | V10: 1.08 | W10: 0.018444897 | X10: 1.08 | Y10: 0.033249524
B11: 0.6 | C11: 0.10894608 | D11: 0.6 | E11: 0.13203084 | F11: 0.6 | G11: 0.095444377 | H11: 0.6 | I11: 0.2132805 | J11: 0.6 | K11: 0.1373345 | L11: 0.6 | M11: 0.084240431 | N11: 0.6 | O11: 0.10102914 | P11: 0.6 | Q11: 0.065379124 | R11: 0.6 | S11: 0.086188066 | T11: 0.6 | U11: 0.072874919 | V11: 1.1 | W11: 0.022874363 | X11: 1.1 | Y11: 0.044457617
B12: 0.62 | C12: 0.15693168 | D12: 0.62 | E12: 0.14896161 | F12: 0.62 | G12: 0.11898922 | H12: 0.62 | I12: 0.27221358 | J12: 0.62 | K12: 0.16344264 | L12: 0.62 | M12: 0.10340953 | N12: 0.62 | O12: 0.1240394 | P12: 0.62 | Q12: 0.091155583 | R12: 0.62 | S12: 0.10220546 | T12: 0.62 | U12: 0.087811671 | V12: 1.12 | W12: 0.029124488 | X12: 1.12 | Y12: 0.052549213
B13: 0.64 | C13: 0.18762404 | D13: 0.64 | E13: 0.17051861 | F13: 0.64 | G13: 0.14459974 | H13: 0.64 | I13: 0.3375326 | J13: 0.64 | K13: 0.20997663 | L13: 0.64 | M13: 0.11958646 | N13: 0.64 | O13: 0.14835633 | P13: 0.64 | Q13: 0.1407228 | R13: 0.64 | S13: 0.11990044 | T13: 0.64 | U13: 0.10140574 | V13: 1.14 | W13: 0.037422197 | X13: 1.14 | Y13: 0.061882886
B14: 0.66 | C14: 0.21153723 | D14: 0.66 | E14: 0.19462207 | F14: 0.66 | G14: 0.16506266 | H14: 0.66 | I14: 0.3799624 | J14: 0.66 | K14: 0.24481787 | L14: 0.66 | M14: 0.13846854 | N14: 0.66 | O14: 0.17530766 | P14: 0.66 | Q14: 0.16233632 | R14: 0.66 | S14: 0.13708168 | T14: 0.66 | U14: 0.12118306 | V14: 1.16 | W14: 0.042822599 | X14: 1.16 | Y14: 0.07119929
B15: 0.68 | C15: 0.23724502 | D15: 0.68 | E15: 0.23223804 | F15: 0.68 | G15: 0.18600543 | H15: 0.68 | I15: 0.42798669 | J15: 0.68 | K15: 0.27992252 | L15: 0.68 | M15: 0.15310573 | N15: 0.68 | O15: 0.20809593 | P15: 0.68 | Q15: 0.18095026 | R15: 0.68 | S15: 0.1525095 | T15: 0.68 | U15: 0.13937878 | V15: 1.18 | W15: 0.049917809 | X15: 1.18 | Y15: 0.090737533
B16: 0.7 | C16: 0.25885622 | D16: 0.7 | E16: 0.25125196 | F16: 0.7 | G16: 0.20532538 | H16: 0.7 | I16: 0.48621438 | J16: 0.7 | K16: 0.31556989 | L16: 0.7 | M16: 0.17672079 | N16: 0.7 | O16: 0.22904878 | P16: 0.7 | Q16: 0.20414628 | R16: 0.7 | S16: 0.16977483 | T16: 0.7 | U16: 0.15486012 | V16: 1.2 | W16: 0.055273928 | X16: 1.2 | Y16: 0.10106667
B17: 0.72 | C17: 0.28229156 | D17: 0.72 | E17: 0.26824915 | F17: 0.72 | G17: 0.22153756 | H17: 0.72 | I17: 0.53655805 | J17: 0.72 | K17: 0.34004911 | L17: 0.72 | M17: 0.19345524 | N17: 0.72 | O17: 0.24950295 | P17: 0.72 | Q17: 0.21708324 | R17: 0.72 | S17: 0.18708407 | T17: 0.72 | U17: 0.16732546 | V17: 1.22 | W17: 0.0696213 | X17: 1.22 | Y17: 0.10975138
... B981: 20 | C981: 14.903872 | D981: 20 | E981: 10.436201 | F981: 20 | G981: 11.087476 | H981: 20 | I981: 23.079303 | J981: 20 | K981: 18.214042 | L981: 20 | M981: 7.6544326 | N981: 20 | O981: 8.7548902 | P981: 20 | Q981: 8.6876754 | R981: 20 | S981: 4.7786296 | T981: 20 | U981: 5.5038844 | V981: 20.5 | W981: 5.6002551 | X981: 20.5 | Y981: 5.4331808
B982: 20.02 | C982: 14.334891 | R982: 20.02 | S982: NaN | T982: 20.02 | U982: NaN | V982: 20.52 | W982: 5.6012405 | X982: 20.52 | Y982: 5.434885
R983: 20.04 | S983: NaN | T983: 20.04 | U983: NaN | V983: 20.54 | W983: 5.6027819 | X983: 20.54 | Y983: 5.4373056
R984: 20.06 | S984: NaN | T984: 20.06 | U984: NaN | V984: 20.56 | W984: 5.6054799 | X984: 20.56 | Y984: 5.4455256
R985: 20.08 | S985: NaN | T985: 20.08 | U985: NaN | V985: 20.58 | W985: 5.6072488 | X985: 20.58 | Y985: 5.4469055
R986: 20.1 | S986: NaN | T986: 20.1 | U986: NaN | V986: 20.6 | W986: 5.6085499 | X986: 20.6 | Y986: 5.4488305
R987: 20.12 | S987: NaN | T987: 20.12 | U987: NaN | V987: 20.62 | W987: 5.6098411 | X987: 20.62 | Y987: 5.4521776
R988: 20.14 | S988: NaN | T988: 20.14 | U988: NaN | V988: 20.64 | W988: 5.6113009 | X988: 20.64 | Y988: 5.4539865
R989: 20.16 | S989: NaN | T989: 20.16 | U989: NaN | V989: 20.66 | W989: 5.6125573 | X989: 20.66 | Y989: 5.4604928
R990: 20.18 | S990: NaN | T990: 20.18 | U990: NaN | V990: 20.68 | W990: 5.6138473 | X990: 20.68 | Y990: 5.4623281
R991: 20.2 | S991: NaN | T991: 20.2 | U991: NaN | V991: 20.7 | W991: 5.6196916 | X991: 20.7 | Y991: 5.4661093
R992: 20.22 | S992: NaN | T992: 20.22 | U992: NaN | V992: 20.72 | W992: 5.6203695 | X992: 20.72 | Y992: 5.4690126
R993: 20.24 | S993: NaN | T993: 20.24 | U993: NaN | V993: 20.74 | W993: 5.6221631 | X993: 20.74 | Y993: 5.4713893
R994: 20.26 | S994: NaN | T994: 20.26 | U994: NaN | V994: 20.76 | W994: 5.6243202 | X994: 20.76 | Y994: 5.472791
... R1031: 21 | S1031: NaN | T1031: 21 | U1031: NaN | V1031: 21.5 | W1031: 5.754377 | X1031: 21.5 | Y1031: 5.5753375
V1032: 21.52 | W1032: 5.7553557 | X1032: 21.52 | Y1032: 5.5773047
V1033: 21.54 | W1033: 5.7567857 | X1033: 21.54 | Y1033: 5.5786953
V1034: 21.56 | W1034: 5.7577351 | X1034: 21.56 | Y1034: 5.5798153
V1035: 21.58 | W1035: 5.763321 | X1035: 21.58 | Y1035: 5.5856525
V1036: 21.6 | W1036: 5.7649009 | X1036: 21.6 | Y1036: 5.5877789
V1037: 21.62 | W1037: 5.7667892 | X1037: 21.62 | Y1037: 5.6050698
V1038: 21.64 | W1038: 5.767492 | X1038: 21.64 | Y1038: 5.6086339
V1039: 21.66 | W1039: 5.7683058 | X1039: 21.66 | Y1039: 5.6121191
V1040: 21.68 | W1040: 5.7696577 | X1040: 21.68 | Y1040: 5.6153574
V1041: 21.7 | W1041: 5.7712911 | X1041: 21.7 | Y1041: 5.6191679
V1042: 21.72 | W1042: 5.7710683 | X1042: 21.72 | Y1042: 5.6232295
V1043: 21.74 | W1043: 5.7722992 | X1043: 21.74 | Y1043: 5.6241544
... V1706: 35 | W1706: 8.4720329 | X1706: 35 | Y1706: 8.1189083
W1707: 8.4211495 | X1707: 35.02 | Y1707: 8.1240855
W1708: 8.4225329 | X1708: 35.04 | Y1708: 8.1252623
W1709: 8.4232468 | X1709: 35.06 | Y1709: 8.1276651
W1710: 8.4242072 | X1710: 35.08 | Y1710: 8.1290891
W1711: 8.4326395 | X1711: 35.1 | Y1711: 8.1327458
W1712: 8.4348588 | X1712: 35.12 | Y1712: 8.1353092
W1713: 8.4354043 | X1713: 35.14 | Y1713: 8.1363624
W1714: 8.4480063 | X1714: 35.16 | Y1714: 8.1407377
W1715: 8.4484736 | X1715: 35.18 | Y1715: 8.1420635
W1716: 8.45016 | X1716: 35.2 | Y1716: 8.1518798
W1717: 8.4518727 | X1717: 35.22 | Y1717: 8.1563494
W1718: 8.452938 | X1718: 35.24 | Y1718: 8.1676197
... W1731: 8.7787113 | X1731: 35.5 | Y1731: 8.233763
X1732: 35.52 | Y1732: 8.2344052
X1733: 35.54 | Y1733: 8.2347498
X1734: 35.56 | Y1734: 8.2400229
X1735: 35.58 | Y1735: 8.2520728
X1736: 35.6 | Y1736: 8.2523467
X1737: 35.62 | Y1737: 8.2536172
X1738: 35.64 | Y1738: 8.2563348
X1739: 35.66 | Y1739: 8.2601774
X1740: 35.68 | Y1740: 8.2634574
X1741: 35.7 | Y1741: 8.2649277
X1742: 35.72 | Y1742: 8.2683089
X1743: 35.74 | Y1743: 8.2720665
... X2456: 50 | Y2456: 10.952979

Sheet u_B
A1: Aggregate Type | B1: Brick | J1: Granite36 | P1: Vatnsskard | V1: Granite25
A2: Gradations | B2: 11.2 - 16.0 | D2: 4.0 - 8 .0 | F2: 4.0 - 11.2 | H2: 2.0 - 16.0 | J2: 11.2 - 16.0 | L2: 4.0 - 8 .0 | N2: 4.0 - 11.2 | P2: 11.2 - 16.0 | R2: 4.0 - 8 .0 | T2: 4.0 - 11.2 | V2: 11.2 - 16.0 | X2: 2.0 - 16.0
A3: Youngs Modulus [GPa] | B3: 15 | J3: 20 | P3: 40 | V3: 45
B5: P_z [kN] | C5: u_B [mm] | D5: P_z [kN] | E5: u_B [mm] | F5: P_z [kN] | G5: u_B [mm] | H5: P_z [kN] | I5: u_B [mm] | J5: P_z [kN] | K5: u_B [mm] | L5: P_z [kN] | M5: u_B [mm] | N5: P_z [kN] | O5: u_B [mm] | P5: P_z [kN] | Q5: u_B [mm] | R5: P_z [kN] | S5: u_B [mm] | T5: P_z [kN] | U5: u_B [mm] | V5: P_z [kN] | W5: u_B [mm] | X5: P_z [kN] | Y5: u_B [mm]
B6: 0.5 | C6: =Measurements!C6-'DEM model without fracture'!C6 -> -0.0021760384 | D6: 0.5 | E6: =Measurements!E6-'DEM model without fracture'!E6 -> 0.00036345205 | F6: 0.5 | G6: =Measurements!G6-'DEM model without fracture'!G6 -> -0.00065094533 | H6: 0.5 | I6: =Measurements!I6-'DEM model without fracture'!I6 -> -1.7674635e-05 | J6: 0.5 | K6: =Measurements!K6-'DEM model without fracture'!K6 -> -0.00024538833 | L6: 0.5 | M6: =Measurements!M6-'DEM model without fracture'!M6 -> 8.5139957e-05 | N6: 0.5 | O6: =Measurements!O6-'DEM model without fracture'!O6 -> -0.00010803477 | P6: 0.5 | Q6: =Measurements!Q6-'DEM model without fracture'!Q6 -> 0.00036178534 | R6: 0.5 | S6: =Measurements!S6-'DEM model without fracture'!S6 -> -0.00021915624 | T6: 0.5 | U6: =Measurements!U6-'DEM model without fracture'!U6 -> 5.6615891e-05 | V6: 1 | W6: =Measurements!W6-'DEM model without fracture'!W6 -> 0.00019237304 | X6: 1 | Y6: =Measurements!Y6-'DEM model without fracture'!Y6 -> 0.00030464479
B7: 0.52 | C7: =Measurements!C7-'DEM model without fracture'!C7 -> -0.025446686 | D7: 0.52 | E7: =Measurements!E7-'DEM model without fracture'!E7 -> -0.0051586816 | F7: 0.52 | G7: =Measurements!G7-'DEM model without fracture'!G7 -> -0.0068095837 | H7: 0.52 | I7: =Measurements!I7-'DEM model without fracture'!I7 -> -0.0056834802 | J7: 0.52 | K7: =Measurements!K7-'DEM model without fracture'!K7 -> -0.012638478 | L7: 0.52 | M7: =Measurements!M7-'DEM model without fracture'!M7 -> -0.0071182856 | N7: 0.52 | O7: =Measurements!O7-'DEM model without fracture'!O7 -> -0.003316146 | P7: 0.52 | Q7: =Measurements!Q7-'DEM model without fracture'!Q7 -> -0.0017287649 | R7: 0.52 | S7: =Measurements!S7-'DEM model without fracture'!S7 -> 0.007664856 | T7: 0.52 | U7: =Measurements!U7-'DEM model without fracture'!U7 -> 0.010866077 | V7: 1.02 | W7: =Measurements!W7-'DEM model without fracture'!W7 -> -0.010453264 | X7: 1.02 | Y7: =Measurements!Y7-'DEM model without fracture'!Y7 -> -0.0036704905
B8: 0.54 | C8: =Measurements!C8-'DEM model without fracture'!C8 -> -0.037244736 | D8: 0.54 | E8: =Measurements!E8-'DEM model without fracture'!E8 -> -0.032211584 | F8: 0.54 | G8: =Measurements!G8-'DEM model without fracture'!G8 -> -0.010321151 | H8: 0.54 | I8: =Measurements!I8-'DEM model without fracture'!I8 -> 0.0071152441 | J8: 0.54 | K8: =Measurements!K8-'DEM model without fracture'!K8 -> -0.0099408217 | L8: 0.54 | M8: =Measurements!M8-'DEM model without fracture'!M8 -> -0.0037645394 | N8: 0.54 | O8: =Measurements!O8-'DEM model without fracture'!O8 -> 0.0039548686 | P8: 0.54 | Q8: =Measurements!Q8-'DEM model without fracture'!Q8 -> -0.0011845329 | R8: 0.54 | S8: =Measurements!S8-'DEM model without fracture'!S8 -> 0.018650808 | T8: 0.54 | U8: =Measurements!U8-'DEM model without fracture'!U8 -> 0.014326884 | V8: 1.04 | W8: =Measurements!W8-'DEM model without fracture'!W8 -> -0.022966445 | X8: 1.04 | Y8: =Measurements!Y8-'DEM model without fracture'!Y8 -> -0.0069811631
B9: 0.56 | C9: =Measurements!C9-'DEM model without fracture'!C9 -> -0.052626423 | D9: 0.56 | E9: =Measurements!E9-'DEM model without fracture'!E9 -> -0.031737076 | F9: 0.56 | G9: =Measurements!G9-'DEM model without fracture'!G9 -> -0.012747733 | H9: 0.56 | I9: =Measurements!I9-'DEM model without fracture'!I9 -> 0.014047658 | J9: 0.56 | K9: =Measurements!K9-'DEM model without fracture'!K9 -> -0.0054974735 | L9: 0.56 | M9: =Measurements!M9-'DEM model without fracture'!M9 -> 0.0016121636 | N9: 0.56 | O9: =Measurements!O9-'DEM model without fracture'!O9 -> 0.01058763 | P9: 0.56 | Q9: =Measurements!Q9-'DEM model without fracture'!Q9 -> -0.00061660021 | R9: 0.56 | S9: =Measurements!S9-'DEM model without fracture'!S9 -> 0.027742731 | T9: 0.56 | U9: =Measurements!U9-'DEM model without fracture'!U9 -> 0.020883647 | V9: 1.06 | W9: =Measurements!W9-'DEM model without fracture'!W9 -> -0.032071131 | X9: 1.06 | Y9: =Measurements!Y9-'DEM model without fracture'!Y9 -> -0.0099375413
B10: 0.58 | C10: =Measurements!C10-'DEM model without fracture'!C10 -> -0.059002774 | D10: 0.58 | E10: =Measurements!E10-'DEM model without fracture'!E10 -> -0.016552101 | F10: 0.58 | G10: =Measurements!G10-'DEM model without fracture'!G10 -> -0.033438366 | H10: 0.58 | I10: =Measurements!I10-'DEM model without fracture'!I10 -> 0.015345712 | J10: 0.58 | K10: =Measurements!K10-'DEM model without fracture'!K10 -> 0.00021059276 | L10: 0.58 | M10: =Measurements!M10-'DEM model without fracture'!M10 -> 0.0048930472 | N10: 0.58 | O10: =Measurements!O10-'DEM model without fracture'!O10 -> 0.02382393 | P10: 0.58 | Q10: =Measurements!Q10-'DEM model without fracture'!Q10 -> 0.00035945833 | R10: 0.58 | S10: =Measurements!S10-'DEM model without fracture'!S10 -> 0.043295373 | T10: 0.58 | U10: =Measurements!U10-'DEM model without fracture'!U10 -> 0.027367295 | V10: 1.08 | W10: =Measurements!W10-'DEM model without fracture'!W10 -> -0.04114341 | X10: 1.08 | Y10: =Measurements!Y10-'DEM model without fracture'!Y10 -> -0.013075771
B11: 0.6 | C11: =Measurements!C11-'DEM model without fracture'!C11 -> -0.072451554 | D11: 0.6 | E11: =Measurements!E11-'DEM model without fracture'!E11 -> -0.011797819 | F11: 0.6 | G11: =Measurements!G11-'DEM model without fracture'!G11 -> -0.040999268 | H11: 0.6 | I11: =Measurements!I11-'DEM model without fracture'!I11 -> 0.031232246 | J11: 0.6 | K11: =Measurements!K11-'DEM model without fracture'!K11 -> 0.0088562408 | L11: 0.6 | M11: =Measurements!M11-'DEM model without fracture'!M11 -> 0.012987332 | N11: 0.6 | O11: =Measurements!O11-'DEM model without fracture'!O11 -> 0.027360871 | P11: 0.6 | Q11: =Measurements!Q11-'DEM model without fracture'!Q11 -> 0.0056490838 | R11: 0.6 | S11: =Measurements!S11-'DEM model without fracture'!S11 -> 0.053774163 | T11: 0.6 | U11: =Measurements!U11-'DEM model without fracture'!U11 -> 0.033498697 | V11: 1.1 | W11: =Measurements!W11-'DEM model without fracture'!W11 -> -0.050819513 | X11: 1.1 | Y11: =Measurements!Y11-'DEM model without fracture'!Y11 -> -0.013238853
B12: 0.62 | C12: =Measurements!C12-'DEM model without fracture'!C12 -> -0.060105429 | D12: 0.62 | E12: =Measurements!E12-'DEM model without fracture'!E12 -> -0.022565182 | F12: 0.62 | G12: =Measurements!G12-'DEM model without fracture'!G12 -> -0.036907506 | H12: 0.62 | I12: =Measurements!I12-'DEM model without fracture'!I12 -> 0.055948689 | J12: 0.62 | K12: =Measurements!K12-'DEM model without fracture'!K12 -> 0.010065124 | L12: 0.62 | M12: =Measurements!M12-'DEM model without fracture'!M12 -> 0.019054726 | N12: 0.62 | O12: =Measurements!O12-'DEM model without fracture'!O12 -> 0.03575025 | P12: 0.62 | Q12: =Measurements!Q12-'DEM model without fracture'!Q12 -> 0.019630125 | R12: 0.62 | S12: =Measurements!S12-'DEM model without fracture'!S12 -> 0.063583463 | T12: 0.62 | U12: =Measurements!U12-'DEM model without fracture'!U12 -> 0.041003236 | V12: 1.12 | W12: =Measurements!W12-'DEM model without fracture'!W12 -> -0.058708991 | X12: 1.12 | Y12: =Measurements!Y12-'DEM model without fracture'!Y12 -> -0.016587868
B13: 0.64 | C13: =Measurements!C13-'DEM model without fracture'!C13 -> -0.063777331 | D13: 0.64 | E13: =Measurements!E13-'DEM model without fracture'!E13 -> -0.025212133 | F13: 0.64 | G13: =Measurements!G13-'DEM model without fracture'!G13 -> -0.030521694 | H13: 0.64 | I13: =Measurements!I13-'DEM model without fracture'!I13 -> 0.092418208 | J13: 0.64 | K13: =Measurements!K13-'DEM model without fracture'!K13 -> 0.032154311 | L13: 0.64 | M13: =Measurements!M13-'DEM model without fracture'!M13 -> 0.02293293 | N13: 0.64 | O13: =Measurements!O13-'DEM model without fracture'!O13 -> 0.045106783 | P13: 0.64 | Q13: =Measurements!Q13-'DEM model without fracture'!Q13 -> 0.05768574 | R13: 0.64 | S13: =Measurements!S13-'DEM model without fracture'!S13 -> 0.075078995 | T13: 0.64 | U13: =Measurements!U13-'DEM model without fracture'!U13 -> 0.047301692 | V13: 1.14 | W13: =Measurements!W13-'DEM model without fracture'!W13 -> -0.064310709 | X13: 1.14 | Y13: =Measurements!Y13-'DEM model without fracture'!Y13 -> -0.018290095
B14: 0.66 | C14: =Measurements!C14-'DEM model without fracture'!C14 -> -0.074172089 | D14: 0.66 | E14: =Measurements!E14-'DEM model without fracture'!E14 -> -0.018268841 | F14: 0.66 | G14: =Measurements!G14-'DEM model without fracture'!G14 -> -0.029497068 | H14: 0.66 | I14: =Measurements!I14-'DEM model without fracture'!I14 -> 0.10467921 | J14: 0.66 | K14: =Measurements!K14-'DEM model without fracture'!K14 -> 0.042526356 | L14: 0.66 | M14: =Measurements!M14-'DEM model without fracture'!M14 -> 0.03223691 | N14: 0.66 | O14: =Measurements!O14-'DEM model without fracture'!O14 -> 0.056758094 | P14: 0.66 | Q14: =Measurements!Q14-'DEM model without fracture'!Q14 -> 0.070534517 | R14: 0.66 | S14: =Measurements!S14-'DEM model without fracture'!S14 -> 0.086194621 | T14: 0.66 | U14: =Measurements!U14-'DEM model without fracture'!U14 -> 0.059815599 | V14: 1.16 | W14: =Measurements!W14-'DEM model without fracture'!W14 -> -0.072090235 | X14: 1.16 | Y14: =Measurements!Y14-'DEM model without fracture'!Y14 -> -0.019649889
B15: 0.68 | C15: =Measurements!C15-'DEM model without fracture'!C15 -> -0.082262908 | D15: 0.68 | E15: =Measurements!E15-'DEM model without fracture'!E15 -> -0.00015085253 | F15: 0.68 | G15: =Measurements!G15-'DEM model without fracture'!G15 -> -0.029268367 | H15: 0.68 | I15: =Measurements!I15-'DEM model without fracture'!I15 -> 0.12349934 | J15: 0.68 | K15: =Measurements!K15-'DEM model without fracture'!K15 -> 0.053291986 | L15: 0.68 | M15: =Measurements!M15-'DEM model without fracture'!M15 -> 0.037404682 | N15: 0.68 | O15: =Measurements!O15-'DEM model without fracture'!O15 -> 0.073558385 | P15: 0.68 | Q15: =Measurements!Q15-'DEM model without fracture'!Q15 -> 0.080559116 | R15: 0.68 | S15: =Measurements!S15-'DEM model without fracture'!S15 -> 0.095704135 | T15: 0.68 | U15: =Measurements!U15-'DEM model without fracture'!U15 -> 0.070781581 | V15: 1.18 | W15: =Measurements!W15-'DEM model without fracture'!W15 -> -0.078002555 | X15: 1.18 | Y15: =Measurements!Y15-'DEM model without fracture'!Y15 -> -0.010744879
B16: 0.7 | C16: =Measurements!C16-'DEM model without fracture'!C16 -> -0.09306666 | D16: 0.7 | E16: =Measurements!E16-'DEM model without fracture'!E16 -> -0.00055894587 | F16: 0.7 | G16: =Measurements!G16-'DEM model without fracture'!G16 -> -0.034348223 | H16: 0.7 | I16: =Measurements!I16-'DEM model without fracture'!I16 -> 0.15359302 | J16: 0.7 | K16: =Measurements!K16-'DEM model without fracture'!K16 -> 0.064911463 | L16: 0.7 | M16: =Measurements!M16-'DEM model without fracture'!M16 -> 0.051695888 | N16: 0.7 | O16: =Measurements!O16-'DEM model without fracture'!O16 -> 0.078503631 | P16: 0.7 | Q16: =Measurements!Q16-'DEM model without fracture'!Q16 -> 0.09528803 | R16: 0.7 | S16: =Measurements!S16-'DEM model without fracture'!S16 -> 0.10706018 | T16: 0.7 | U16: =Measurements!U16-'DEM model without fracture'!U16 -> 0.079078859 | V16: 1.2 | W16: =Measurements!W16-'DEM model without fracture'!W16 -> -0.08568828 | X16: 1.2 | Y16: =Measurements!Y16-'DEM model without fracture'!Y16 -> -0.011077943
B17: 0.72 | C17: =Measurements!C17-'DEM model without fracture'!C17 -> -0.10077852 | D17: 0.72 | E17: =Measurements!E17-'DEM model without fracture'!E17 -> -0.03529368 | F17: 0.72 | G17: =Measurements!G17-'DEM model without fracture'!G17 -> -0.042978511 | H17: 0.72 | I17: =Measurements!I17-'DEM model without fracture'!I17 -> 0.17756799 | J17: 0.72 | K17: =Measurements!K17-'DEM model without fracture'!K17 -> 0.065570875 | L17: 0.72 | M17: =Measurements!M17-'DEM model without fracture'!M17 -> 0.059103263 | N17: 0.72 | O17: =Measurements!O17-'DEM model without fracture'!O17 -> 0.083045313 | P17: 0.72 | Q17: =Measurements!Q17-'DEM model without fracture'!Q17 -> 0.099925191 | R17: 0.72 | S17: =Measurements!S17-'DEM model without fracture'!S17 -> 0.11852402 | T17: 0.72 | U17: =Measurements!U17-'DEM model without fracture'!U17 -> 0.084386117 | V17: 1.22 | W17: =Measurements!W17-'DEM model without fracture'!W17 -> -0.084332859 | X17: 1.22 | Y17: =Measurements!Y17-'DEM model without fracture'!Y17 -> -0.012778542
... B981: 20 | C981: =Measurements!C981-'DEM model without fracture'!C981 -> 7.8625362 | D981: 20 | E981: =Measurements!E981-'DEM model without fracture'!E981 -> 5.8810298 | F981: 20 | G981: =Measurements!G981-'DEM model without fracture'!G981 -> 3.9502428 | H981: 20 | I981: =Measurements!I981-'DEM model without fracture'!I981 -> 11.028997 | J981: 20 | K981: =Measurements!K981-'DEM model without fracture'!K981 -> 10.175626 | L981: 20 | M981: =Measurements!M981-'DEM model without fracture'!M981 -> 3.7621306 | N981: 20 | O981: =Measurements!O981-'DEM model without fracture'!O981 -> 3.6501298 | P981: 20 | Q981: =Measurements!Q981-'DEM model without fracture'!Q981 -> 5.7923641 | R981: 20 | S981: =Measurements!S981-'DEM model without fracture'!S981 -> 2.5756805 | T981: 20 | U981: =Measurements!U981-'DEM model without fracture'!U981 -> 2.8757789 | V981: 20.5 | W981: =Measurements!W981-'DEM model without fracture'!W981 -> 1.0214385 | X981: 20.5 | Y981: =Measurements!Y981-'DEM model without fracture'!Y981 -> 1.0253075
V982: 20.52 | W982: =Measurements!W982-'DEM model without fracture'!W982 -> 1.0196789 | X982: 20.52 | Y982: =Measurements!Y982-'DEM model without fracture'!Y982 -> 1.0248454
V983: 20.54 | W983: =Measurements!W983-'DEM model without fracture'!W983 -> 1.0184626 | X983: 20.54 | Y983: =Measurements!Y983-'DEM model without fracture'!Y983 -> 1.025108
V984: 20.56 | W984: =Measurements!W984-'DEM model without fracture'!W984 -> 1.0184157 | X984: 20.56 | Y984: =Measurements!Y984-'DEM model without fracture'!Y984 -> 1.0311762
V985: 20.58 | W985: =Measurements!W985-'DEM model without fracture'!W985 -> 1.0174316 | X985: 20.58 | Y985: =Measurements!Y985-'DEM model without fracture'!Y985 -> 1.0303873
V986: 20.6 | W986: =Measurements!W986-'DEM model without fracture'!W986 -> 1.0159899 | X986: 20.6 | Y986: =Measurements!Y986-'DEM model without fracture'!Y986 -> 1.0301511
V987: 20.62 | W987: =Measurements!W987-'DEM model without fracture'!W987 -> 1.01454 | X987: 20.62 | Y987: =Measurements!Y987-'DEM model without fracture'!Y987 -> 1.0313401
V988: 20.64 | W988: =Measurements!W988-'DEM model without fracture'!W988 -> 1.0132435 | X988: 20.64 | Y988: =Measurements!Y988-'DEM model without fracture'!Y988 -> 1.0310016
V989: 20.66 | W989: =Measurements!W989-'DEM model without fracture'!W989 -> 1.0117597 | X989: 20.66 | Y989: =Measurements!Y989-'DEM model without fracture'!Y989 -> 1.0353532
V990: 20.68 | W990: =Measurements!W990-'DEM model without fracture'!W990 -> 1.0103085 | X990: 20.68 | Y990: =Measurements!Y990-'DEM model without fracture'!Y990 -> 1.0350449
V991: 20.7 | W991: =Measurements!W991-'DEM model without fracture'!W991 -> 1.0134035 | X991: 20.7 | Y991: =Measurements!Y991-'DEM model without fracture'!Y991 -> 1.0366533
V992: 20.72 | W992: =Measurements!W992-'DEM model without fracture'!W992 -> 1.0113491 | X992: 20.72 | Y992: =Measurements!Y992-'DEM model without fracture'!Y992 -> 1.0373975
V993: 20.74 | W993: =Measurements!W993-'DEM model without fracture'!W993 -> 1.0103891 | X993: 20.74 | Y993: =Measurements!Y993-'DEM model without fracture'!Y993 -> 1.0376084
... V1706: 35 | W1706: =Measurements!W1706-'DEM model without fracture'!W1706 -> 1.8760208 | X1706: 35 | Y1706: =Measurements!Y1706-'DEM model without fracture'!Y1706 -> 2.3497935
X1707: 35.02 | Y1707: =Measurements!Y1707-'DEM model without fracture'!Y1707 -> 2.3533455
X1708: 35.04 | Y1708: =Measurements!Y1708-'DEM model without fracture'!Y1708 -> 2.3528973
X1709: 35.06 | Y1709: =Measurements!Y1709-'DEM model without fracture'!Y1709 -> 2.3536786
X1710: 35.08 | Y1710: =Measurements!Y1710-'DEM model without fracture'!Y1710 -> 2.3534846
X1711: 35.1 | Y1711: =Measurements!Y1711-'DEM model without fracture'!Y1711 -> 2.355515
X1712: 35.12 | Y1712: =Measurements!Y1712-'DEM model without fracture'!Y1712 -> 2.3564543
X1713: 35.14 | Y1713: =Measurements!Y1713-'DEM model without fracture'!Y1713 -> 2.3558832
X1714: 35.16 | Y1714: =Measurements!Y1714-'DEM model without fracture'!Y1714 -> 2.3586409
X1715: 35.18 | Y1715: =Measurements!Y1715-'DEM model without fracture'!Y1715 -> 2.3583409
X1716: 35.2 | Y1716: =Measurements!Y1716-'DEM model without fracture'!Y1716 -> 2.3665251
X1717: 35.22 | Y1717: =Measurements!Y1717-'DEM model without fracture'!Y1717 -> 2.3693682
X1718: 35.24 | Y1718: =Measurements!Y1718-'DEM model without fracture'!Y1718 -> 2.3790151
... X2456: 50 | Y2456: =Measurements!Y2456-'DEM model without fracture'!Y2456 -> 4.0638235

Sheet u_B Brick 11.2 - 16
A1: Aggregate Type | B1: Brick | F1: Δu_z [mm] | H1: Bg-Index
A2: Gradations | B2: 11.2 - 16.0 | F2: 10 kN | G2: 20 kN | H2: 10 kN | I2: 20 kN
A3: Youngs Modulus [GPa] | B3: 15 | F3: =C481 -> 3.2594489 | G3: =C980 -> 8.4911928 | H3: 7.0604706 | I3: 21.729855
B5: P_z [kN] | C5: u_B [mm]
B6: 0.5 | C6: -0.0021760384
B7: 0.52 | C7: -0.025446686
B8: 0.54 | C8: -0.037244736
B9: 0.56 | C9: -0.052626423
B10: 0.58 | C10: -0.059002774
B11: 0.6 | C11: -0.072451554
B12: 0.62 | C12: -0.060105429
B13: 0.64 | C13: -0.063777331
B14: 0.66 | C14: -0.074172089
B15: 0.68 | C15: -0.082262908
B16: 0.7 | C16: -0.09306666
B17: 0.72 | C17: -0.10077852
... B981: 20 | C981: 7.8625362

Sheet u_B Brick 4 - 8
A1: Aggregate Type | B1: Brick | F1: Δu_z [mm] | H1: Bg-Index
A2: Gradations | B2: 4.0 - 8 .0 | F2: 10 kN | G2: 20 kN | H2: 10 kN | I2: 20 kN
A3: Youngs Modulus [GPa] | B3: 15 | F3: =C481 -> 3.4408586 | G3: =C981 -> 5.8810298 | H3: 5.3190554 | I3: 20.804234
B5: P_z [kN] | C5: u_B [mm]
B6: 0.5 | C6: 0.00036345205
B7: 0.52 | C7: -0.0051586816
B8: 0.54 | C8: -0.032211584
B9: 0.56 | C9: -0.031737076
B10: 0.58 | C10: -0.016552101
B11: 0.6 | C11: -0.011797819
B12: 0.62 | C12: -0.022565182
B13: 0.64 | C13: -0.025212133
B14: 0.66 | C14: -0.018268841
B15: 0.68 | C15: -0.00015085253
B16: 0.7 | C16: -0.00055894587
B17: 0.72 | C17: -0.03529368
... B981: 20 | C981: 5.8810298

Sheet u_B Brick 4 - 11.2
A1: Aggregate Type | B1: Brick | F1: Δu_z [mm] | H1: Bg-Index
A2: Gradations | B2: 4.0 - 11.2 | F2: 10 kN | G2: 20 kN | H2: 10 kN | I2: 20 kN
A3: Youngs Modulus [GPa] | B3: 15 | F3: =C481 -> 1.4981914 | G3: =C981 -> 3.9502428 | H3: 7.2347862 | I3: 14.598322
B5: P_z [kN] | C5: u_B [mm]
B6: 0.5 | C6: -0.00065094533
B7: 0.52 | C7: -0.0068095837
B8: 0.54 | C8: -0.010321151
B9: 0.56 | C9: -0.012747733
B10: 0.58 | C10: -0.033438366
B11: 0.6 | C11: -0.040999268
B12: 0.62 | C12: -0.036907506
B13: 0.64 | C13: -0.030521694
B14: 0.66 | C14: -0.029497068
B15: 0.68 | C15: -0.029268367
B16: 0.7 | C16: -0.034348223
B17: 0.72 | C17: -0.042978511
... B981: 20 | C981: 3.9502428

Sheet u_B Brick 2 - 16
A1: Aggregate Type | B1: Brick | F1: Δu_z [mm] | H1: Bg-Index
A2: Gradations | B2: 2.0 - 16.0 | F2: 10 kN | G2: 20 kN | H2: 10 kN | I2: 20 kN
A3: Youngs Modulus [GPa] | B3: 15 | F3: =C481 -> 6.3706986 | G3: =C981 -> 11.028997 | H3: 3.3573325 | I3: 8.3103703
B5: P_z [kN] | C5: u_B [mm]
B6: 0.5 | C6: -1.7674635e-05
B7: 0.52 | C7: -0.0056834802
B8: 0.54 | C8: 0.0071152441
B9: 0.56 | C9: 0.014047658
B10: 0.58 | C10: 0.015345712
B11: 0.6 | C11: 0.031232246
B12: 0.62 | C12: 0.055948689
B13: 0.64 | C13: 0.092418208
B14: 0.66 | C14: 0.10467921
B15: 0.68 | C15: 0.12349934
B16: 0.7 | C16: 0.15359302
B17: 0.72 | C17: 0.17756799
... B981: 20 | C981: 11.028997

Sheet u_B G36 11.2- 16
A1: Aggregate Type | B1: Granite36 | F1: Δu_z [mm] | H1: Bg-Index
A2: Gradations | B2: 11.2 - 16.0 | F2: 10 kN | G2: 20 kN | H2: 10 kN | I2: 20 kN
A3: Youngs Modulus [GPa] | B3: 20 | F3: =C481 -> 4.7437228 | G3: =C981 -> 10.175626 | H3: 8.2695399 | I3: 23.290227
B5: P_z [kN] | C5: u_B [mm]
B6: 0.5 | C6: -0.00024538833
B7: 0.52 | C7: -0.012638478
B8: 0.54 | C8: -0.0099408217
B9: 0.56 | C9: -0.0054974735
B10: 0.58 | C10: 0.00021059276
B11: 0.6 | C11: 0.0088562408
B12: 0.62 | C12: 0.010065124
B13: 0.64 | C13: 0.032154311
B14: 0.66 | C14: 0.042526356
B15: 0.68 | C15: 0.053291986
B16: 0.7 | C16: 0.064911463
B17: 0.72 | C17: 0.065570875
... B981: 20 | C981: 10.175626

Sheet u_B G36 4 - 8
A1: Aggregate Type | B1: Granite36 | F1: Δu_z [mm] | H1: Bg-Index
A2: Gradations | B2: 4.0 - 8 .0 | F2: 10 kN | G2: 20 kN | H2: 10 kN | I2: 20 kN
A3: Youngs Modulus [GPa] | B3: 20 | F3: =C481 -> 2.5425196 | G3: =C980 -> 3.880485 | H3: 5.6540034 | I3: 13.792244
B5: P_z [kN] | C5: u_B [mm]
B6: 0.5 | C6: 8.5139957e-05
B7: 0.52 | C7: -0.0071182856
B8: 0.54 | C8: -0.0037645394
B9: 0.56 | C9: 0.0016121636
B10: 0.58 | C10: 0.0048930472
B11: 0.6 | C11: 0.012987332
B12: 0.62 | C12: 0.019054726
B13: 0.64 | C13: 0.02293293
B14: 0.66 | C14: 0.03223691
B15: 0.68 | C15: 0.037404682
B16: 0.7 | C16: 0.051695888
B17: 0.72 | C17: 0.059103263
... B981: 20 | C981: 3.7621306

Sheet u_B G36 4 - 11.2
A1: Aggregate Type | B1: Granite36 | F1: Δu_z [mm] | H1: Bg-Index
A2: Gradations | B2: 4.0 - 11.2 | F2: 10 kN | G2: 20 kN | H2: 10 kN | I2: 20 kN
A3: Youngs Modulus [GPa] | B3: 20 | F3: =C481 -> 2.2651271 | G3: =C981 -> 3.6501298 | H3: 5.0765245 | I3: 11.811551
B5: P_z [kN] | C5: u_B [mm]
B6: 0.5 | C6: -0.00010803477
B7: 0.52 | C7: -0.003316146
B8: 0.54 | C8: 0.0039548686
B9: 0.56 | C9: 0.01058763
B10: 0.58 | C10: 0.02382393
B11: 0.6 | C11: 0.027360871
B12: 0.62 | C12: 0.03575025
B13: 0.64 | C13: 0.045106783
B14: 0.66 | C14: 0.056758094
B15: 0.68 | C15: 0.073558385
B16: 0.7 | C16: 0.078503631
B17: 0.72 | C17: 0.083045313
... B981: 20 | C981: 3.6501298

Sheet u_B Vatnsskard 11.2 - 16
A1: Aggregate Type | B1: Vatnsskard | F1: Δu_z [mm] | H1: Bg-Index
A2: Gradations | B2: 11.2 - 16.0 | F2: 10 kN | G2: 20 kN | H2: 10 kN | I2: 20 kN
A3: Youngs Modulus [GPa] | B3: 40 | F3: =C481 -> 2.9327052 | G3: =C981 -> 5.7923641 | H3: 4.1729409 | I3: 9.8195626
B5: P_z [kN] | C5: u_B [mm]
B6: 0.5 | C6: 0.00036178534
B7: 0.52 | C7: -0.0017287649
B8: 0.54 | C8: -0.0011845329
B9: 0.56 | C9: -0.00061660021
B10: 0.58 | C10: 0.00035945833
B11: 0.6 | C11: 0.0056490838
B12: 0.62 | C12: 0.019630125
B13: 0.64 | C13: 0.05768574
B14: 0.66 | C14: 0.070534517
B15: 0.68 | C15: 0.080559116
B16: 0.7 | C16: 0.09528803
B17: 0.72 | C17: 0.099925191
... B981: 20 | C981: 5.7923641

Sheet u_B Vatnsskard 4 - 8
A1: Aggregate Type | B1: Vatnsskard | F1: Δu_z [mm] | H1: Bg-Index
A2: Gradations | B2: 4.0 - 8 .0 | F2: 10 kN | G2: 20 kN | H2: 10 kN | I2: 20 kN
A3: Youngs Modulus [GPa] | B3: 40 | F3: =C481 -> 1.6023306 | G3: =C981 -> 2.5756805 | H3: 3.0043204 | I3: 7.8336174
B5: P_z [kN] | C5: u_B [mm]
B6: 0.5 | C6: -0.00021915624
B7: 0.52 | C7: 0.007664856
B8: 0.54 | C8: 0.018650808
B9: 0.56 | C9: 0.027742731
B10: 0.58 | C10: 0.043295373
B11: 0.6 | C11: 0.053774163
B12: 0.62 | C12: 0.063583463
B13: 0.64 | C13: 0.075078995
B14: 0.66 | C14: 0.086194621
B15: 0.68 | C15: 0.095704135
B16: 0.7 | C16: 0.10706018
B17: 0.72 | C17: 0.11852402
... B981: 20 | C981: 2.5756805

Sheet u_B Vatnsskard 4 - 11.2
A1: Aggregate Type | B1: Vatnsskard | F1: Δu_z [mm] | H1: Bg-Index
A2: Gradations | B2: 4.0 - 11.2 | F2: 10 kN | G2: 20 kN | H2: 10 kN | I2: 20 kN
A3: Youngs Modulus [GPa] | B3: 40 | F3: =C481 -> 1.3648148 | G3: =C981 -> 2.8757789 | H3: 4.963251 | I3: 11.028112
B5: P_z [kN] | C5: u_B [mm]
B6: 0.5 | C6: 5.6615891e-05
B7: 0.52 | C7: 0.010866077
B8: 0.54 | C8: 0.014326884
B9: 0.56 | C9: 0.020883647
B10: 0.58 | C10: 0.027367295
B11: 0.6 | C11: 0.033498697
B12: 0.62 | C12: 0.041003236
B13: 0.64 | C13: 0.047301692
B14: 0.66 | C14: 0.059815599
B15: 0.68 | C15: 0.070781581
B16: 0.7 | C16: 0.079078859
B17: 0.72 | C17: 0.084386117
... B981: 20 | C981: 2.8757789

Sheet u_B G25 11.2 - 16
A1: Aggregate Type | B1: Granite25 | F1: Δu_z [mm] | I1: Bg-Index
A2: Gradations | B2: 11.2 - 16.0 | F2: 10 kN | G2: 20 kN | H2: 35 kN | I2: 20 kN | J2: 35 kN
A3: Youngs Modulus [GPa] | B3: 45 | F3: =C456 -> 0.4594349 | G3: =C956 -> 0.98141367 | H3: =C1706 -> 1.8760208 | I3: 2.7991061 | J3: 5.2006755
B5: P_z [kN] | C5: u_B [mm]
B6: 1 | C6: 0.00019237304
B7: 1.02 | C7: -0.010453264
B8: 1.04 | C8: -0.022966445
B9: 1.06 | C9: -0.032071131
B10: 1.08 | C10: -0.04114341
B11: 1.1 | C11: -0.050819513
B12: 1.12 | C12: -0.058708991
B13: 1.14 | C13: -0.064310709
B14: 1.16 | C14: -0.072090235
B15: 1.18 | C15: -0.078002555
B16: 1.2 | C16: -0.08568828
B17: 1.22 | C17: -0.084332859
... B1706: 35 | C1706: 1.8760208

Sheet u_B G25 2 - 16
A1: Aggregate Type | B1: Granite25 | F1: Δu_z [mm] | J1: Bg-Index
A2: Gradations | B2: 2.0 - 16.0 | F2: 10 kN | G2: 20 kN | H2: 35 kN | I2: 50 kN | J2: 35 kN | K2: 50 kN
A3: Youngs Modulus [GPa] | B3: 45 | F3: =C456 -> 0.20292998 | G3: =C956 -> 0.95511006 | H3: =C1706 -> 2.3497935 | I3: =C2456 -> 4.0638235 | J3: 1.7188719 | K3: 3.9500802
B5: P_z [kN] | C5: u_B [mm]
B6: 1 | C6: 0.00030464479
B7: 1.02 | C7: -0.0036704905
B8: 1.04 | C8: -0.0069811631
B9: 1.06 | C9: -0.0099375413
B10: 1.08 | C10: -0.013075771
B11: 1.1 | C11: -0.013238853
B12: 1.12 | C12: -0.016587868
B13: 1.14 | C13: -0.018290095
B14: 1.16 | C14: -0.019649889
B15: 1.18 | C15: -0.010744879
B16: 1.2 | C16: -0.011077943
B17: 1.22 | C17: -0.012778542
... B2456: 50 | C2456: 4.0638235
